BEGIN:VCALENDAR
VERSION:2.0
PRODID:-//wp-events-plugin.com//7.2.2.1//EN
TZID:Africa/Accra
X-WR-TIMEZONE:Africa/Accra
BEGIN:VEVENT
UID:2@africanchambersofcommerce.org
DTSTART;TZID=Africa/Accra:20250303T000000
DTEND;TZID=Africa/Accra:20250305T050000
DTSTAMP:20240920T063340Z
URL:https://africanchambersofcommerce.org/events/global-aerospace-summit-2
 024/
SUMMARY:Global Summit 2025
DESCRIPTION:Global Summit 2024
CATEGORIES:Infrastructure
LOCATION:#
END:VEVENT
BEGIN:VTIMEZONE
TZID:Africa/Accra
X-LIC-LOCATION:Africa/Accra
BEGIN:STANDARD
DTSTART:20240303T000000
TZOFFSETFROM:+0000
TZOFFSETTO:+0000
TZNAME:GMT
END:STANDARD
END:VTIMEZONE
END:VCALENDAR